BEGIN:VCALENDAR
VERSION:2.0
PRODID:-//Squarespace Inc/Squarespace 6//v6//EN
BEGIN:VEVENT
UID:5c0db78988251bdf0c328513@squarespace.com
DTSTAMP:20201009T224748Z
DTSTART:20190817T000000Z
DTEND:20190817T043000Z
SUMMARY:BOOKED OUT - Bittersweet Chocolate Indulgence
END:VEVENT
END:VCALENDAR
