BEGIN:VCALENDAR
VERSION:2.0
PRODID:-//Squarespace Inc/Squarespace 6//v6//EN
BEGIN:VEVENT
UID:59d46218197aea6bde4e302e@squarespace.com
DTSTAMP:20201009T224417Z
DTSTART:20180417T023000Z
DTEND:20180417T050000Z
SUMMARY:Junior Chefs (Afternoon class) | 8-14 years
END:VEVENT
END:VCALENDAR
