BEGIN:VCALENDAR
VERSION:2.0
PRODID:-//Squarespace Inc/Squarespace 6//v6//EN
BEGIN:VEVENT
UID:5c0db62dc2241bcfcdaa34eb@squarespace.com
DTSTAMP:20201009T224748Z
DTSTART:20190810T233000Z
DTEND:20190811T040000Z
SUMMARY:BOOKED OUT - Baking Essentials - Tortes and Petite Gateaux
END:VEVENT
END:VCALENDAR
