BEGIN:VCALENDAR
VERSION:2.0
PRODID:-//Squarespace Inc/Squarespace 6//v6//EN
BEGIN:VEVENT
UID:5c0db25421c67c5de4de7fb3@squarespace.com
DTSTAMP:20201009T224748Z
DTSTART:20190810T070000Z
DTEND:20190810T110000Z
SUMMARY:BOOKED OUT - My Southern Italian Kitchen 
END:VEVENT
END:VCALENDAR
