BEGIN:VCALENDAR
VERSION:2.0
PRODID:-//Squarespace Inc/Squarespace 6//v6//EN
BEGIN:VEVENT
UID:5a0a44fa53450af07c080a35@squarespace.com
DTSTAMP:20201009T224734Z
DTSTART:20180223T223000Z
DTEND:20180224T023000Z
SUMMARY:Vietnamese - Favourites from our Travels
END:VEVENT
END:VCALENDAR
