BEGIN:VCALENDAR
VERSION:2.0
PRODID:-//Squarespace Inc/Squarespace 6//v6//EN
BEGIN:VEVENT
UID:5be92ef0758d466fbb02a3b5@squarespace.com
DTSTAMP:20201009T224512Z
DTSTART:20190526T000000Z
DTEND:20190526T040000Z
SUMMARY:Moorish Moroccan Flavours 
END:VEVENT
END:VCALENDAR
