BEGIN:VCALENDAR
VERSION:2.0
PRODID:-//Squarespace Inc/Squarespace 6//v6//EN
BEGIN:VEVENT
UID:5be9f8c20e2e721437b9b6a0@squarespace.com
DTSTAMP:20201009T224559Z
DTSTART:20190616T233000Z
DTEND:20190617T033000Z
SUMMARY:Artisan French Baking Class with Boulangerie Patisserie Baker Berna
 rd Hoff
END:VEVENT
END:VCALENDAR
