BEGIN:VCALENDAR
VERSION:2.0
PRODID:-//Squarespace Inc/Squarespace 6//v6//EN
BEGIN:VEVENT
UID:5a0b923f0d9297effccb51a3@squarespace.com
DTSTAMP:20201009T224512Z
DTSTART:20190502T083000Z
DTEND:20190502T123000Z
SUMMARY:Date available to book your EXCLUSIVE Gold Cup Luncheon or  Dinner 
END:VEVENT
END:VCALENDAR
