BEGIN:VCALENDAR
VERSION:2.0
PRODID:-//Squarespace Inc/Squarespace 6//v6//EN
BEGIN:VEVENT
UID:5cbe5c3aeb393123d1e83020@squarespace.com
DTSTAMP:20201009T224437Z
DTSTART:20191102T230000Z
DTEND:20191103T030000Z
SUMMARY:5 PLACES LEFT - The host with the most – Cocktail Party Delights!
END:VEVENT
END:VCALENDAR
