BEGIN:VCALENDAR
VERSION:2.0
PRODID:-//Squarespace Inc/Squarespace 6//v6//EN
BEGIN:VEVENT
UID:5c615301b208fc722ada7466@squarespace.com
DTSTAMP:20201009T224813Z
DTSTART:20191215T010000Z
DTEND:20191215T053000Z
SUMMARY:BOOKED OUT - Book a table for your Christmas Party Luncheon - limit
 ed places available!
END:VEVENT
END:VCALENDAR
