BEGIN:VCALENDAR
VERSION:2.0
PRODID:-//Squarespace Inc/Squarespace 6//v6//EN
BEGIN:VEVENT
UID:5d5375eb4942a600015690c4@squarespace.com
DTSTAMP:20201009T224813Z
DTSTART:20191206T073000Z
DTEND:20191206T113000Z
SUMMARY:Book a table for your Christmas Party Luncheon - limited places ava
 ilable!
END:VEVENT
END:VCALENDAR
