BEGIN:VCALENDAR
VERSION:2.0
PRODID:-//Squarespace Inc/Squarespace 6//v6//EN
BEGIN:VEVENT
UID:5cbe664cfbedb800017c46c4@squarespace.com
DTSTAMP:20201009T224813Z
DTSTART:20191213T073000Z
DTEND:20191213T113000Z
SUMMARY:BOOK YOUR CHRISTMAS PARTY HERE
END:VEVENT
END:VCALENDAR
