BEGIN:VCALENDAR
VERSION:2.0
PRODID:-//Squarespace Inc/Squarespace 6//v6//EN
BEGIN:VEVENT
UID:5c45541faa4a995fe6af16e9@squarespace.com
DTSTAMP:20201009T224437Z
DTSTART:20191129T073000Z
DTEND:20191129T113000Z
SUMMARY:BOOKED OUT - Book a table for your Christmas Party
END:VEVENT
END:VCALENDAR
