BEGIN:VCALENDAR
VERSION:2.0
PRODID:-//Squarespace Inc/Squarespace 6//v6//EN
BEGIN:VEVENT
UID:5be8eb7e0ebbe885c5aabd90@squarespace.com
DTSTAMP:20201009T224512Z
DTSTART:20190501T080000Z
DTEND:20190501T120000Z
SUMMARY:Curries of the World - From Cambodia to Thailand to Burma
END:VEVENT
END:VCALENDAR
