BEGIN:VCALENDAR
VERSION:2.0
PRODID:-//Squarespace Inc/Squarespace 6//v6//EN
BEGIN:VEVENT
UID:5be8effd88251b96c32ea38b@squarespace.com
DTSTAMP:20201009T224512Z
DTSTART:20190512T020000Z
DTEND:20190512T050000Z
SUMMARY:BOOKED OUT - Mothers Day Luncheon 
END:VEVENT
END:VCALENDAR
