BEGIN:VCALENDAR
VERSION:2.0
PRODID:-//Squarespace Inc/Squarespace 6//v6//EN
BEGIN:VEVENT
UID:5c0db160758d469c148850dc@squarespace.com
DTSTAMP:20201009T224748Z
DTSTART:20190810T000000Z
DTEND:20190810T040000Z
SUMMARY:BOOKED OUT - The Art of Ravioli and Gnocchi
END:VEVENT
END:VCALENDAR
