BEGIN:VCALENDAR
VERSION:2.0
PRODID:-//Squarespace Inc/Squarespace 6//v6//EN
BEGIN:VEVENT
UID:59dac19012abd904963a5ff0@squarespace.com
DTSTAMP:20201009T224500Z
DTSTART:20191012T230000Z
DTEND:20191013T030000Z
SUMMARY:BOOKED OUT - Dim Sum then Some
END:VEVENT
END:VCALENDAR
