BEGIN:VCALENDAR
VERSION:2.0
PRODID:-//Squarespace Inc/Squarespace 6//v6//EN
BEGIN:VEVENT
UID:5be8edce03ce64619f8a57e3@squarespace.com
DTSTAMP:20201009T224614Z
DTSTART:20190714T000000Z
DTEND:20190714T040000Z
SUMMARY:French Cuisine - Celebrate Bastille day 
END:VEVENT
END:VCALENDAR
