BEGIN:VCALENDAR
VERSION:2.0
PRODID:-//Squarespace Inc/Squarespace 6//v6//EN
BEGIN:VEVENT
UID:5cb670af085229a5fbae526f@squarespace.com
DTSTAMP:20201009T224528Z
DTSTART:20190918T080000Z
DTEND:20190918T120000Z
SUMMARY:BOOKED OUT - Malaysian Cuisine - The sum of many delicious parts
END:VEVENT
END:VCALENDAR
