BEGIN:VCALENDAR
VERSION:2.0
PRODID:-//Squarespace Inc/Squarespace 6//v6//EN
BEGIN:VEVENT
UID:5be93f35758d466fbb030824@squarespace.com
DTSTAMP:20201009T224559Z
DTSTART:20190630T000000Z
DTEND:20190630T040000Z
SUMMARY:4 PLACES LEFT - Mexican Taquiza - A Mexican Fiesta Banquet
END:VEVENT
END:VCALENDAR
