BEGIN:VCALENDAR
VERSION:2.0
PRODID:-//Squarespace Inc/Squarespace 6//v6//EN
BEGIN:VEVENT
UID:5cb68391eef1a19d994164f5@squarespace.com
DTSTAMP:20201009T224500Z
DTSTART:20191019T230000Z
DTEND:20191020T030000Z
SUMMARY:BOOKED OUT - Middle Eastern - In the style of Ottolenghi\, spices a
 nd aromatic dishes
END:VEVENT
END:VCALENDAR
