BEGIN:VCALENDAR
VERSION:2.0
PRODID:-//Squarespace Inc/Squarespace 6//v6//EN
BEGIN:VEVENT
UID:5dc343e239731149b14001cc@squarespace.com
DTSTAMP:20201009T224858Z
DTSTART:20200816T000000Z
DTEND:20200816T040000Z
SUMMARY:TWO PLACES LEFT -  The Spanish Kitchen – Tapas &amp\; Paella - Regi
 onal specialities from North to the South
END:VEVENT
END:VCALENDAR
