BEGIN:VCALENDAR
VERSION:2.0
PRODID:-//Squarespace Inc/Squarespace 6//v6//EN
BEGIN:VEVENT
UID:5be93bfa562fa7018673df31@squarespace.com
DTSTAMP:20201009T224559Z
DTSTART:20190629T000000Z
DTEND:20190629T040000Z
SUMMARY:BOOKED OUT - The Spanish Kitchen – Regional specialities from North 
 to the South
END:VEVENT
END:VCALENDAR
