BEGIN:VCALENDAR
VERSION:2.0
PRODID:-//Squarespace Inc/Squarespace 6//v6//EN
BEGIN:VEVENT
UID:5be929854ae23793ccad8231@squarespace.com
DTSTAMP:20201009T224613Z
DTSTART:20190727T000000Z
DTEND:20190727T040000Z
SUMMARY:1 PLACE LEFT - The Spice Route of India 
END:VEVENT
END:VCALENDAR
