BEGIN:VCALENDAR
VERSION:2.0
PRODID:-//Squarespace Inc/Squarespace 6//v6//EN
BEGIN:VEVENT
UID:5be8e27c2b6a281d5afca32d@squarespace.com
DTSTAMP:20201009T224417Z
DTSTART:20190410T080000Z
DTEND:20190410T120000Z
SUMMARY:FOUR PLACES LEFT - Thai Street Food - Top Five must learn dishes!
END:VEVENT
END:VCALENDAR
