BEGIN:VCALENDAR
VERSION:2.0
PRODID:-//Squarespace Inc/Squarespace 6//v6//EN
BEGIN:VEVENT
UID:5c0f43d94fa51a03ef526a72@squarespace.com
DTSTAMP:20201009T224417Z
DTSTART:20190428T010000Z
DTEND:20190428T050000Z
SUMMARY:BOOKED OUT- Japanese Cuisine - Traditional and Modern
END:VEVENT
END:VCALENDAR
