BEGIN:VCALENDAR
VERSION:2.0
PRODID:-//Squarespace Inc/Squarespace 6//v6//EN
BEGIN:VEVENT
UID:5c62fb4de2c4835d34cbdd35@squarespace.com
DTSTAMP:20201009T224512Z
DTSTART:20190519T020000Z
DTEND:20190519T060000Z
SUMMARY:Let's Eat - Mark Olive Long Lunch
END:VEVENT
END:VCALENDAR
