BEGIN:VCALENDAR
VERSION:2.0
PRODID:-//Squarespace Inc/Squarespace 6//v6//EN
BEGIN:VEVENT
UID:5c62f8baec212d208e85d0fc@squarespace.com
DTSTAMP:20201009T224512Z
DTSTART:20190518T020000Z
DTEND:20190518T060000Z
SUMMARY:Let's Eat - Mark Olive Signature Demonstration Masterclass
END:VEVENT
END:VCALENDAR
