BEGIN:VCALENDAR
VERSION:2.0
PRODID:-//Squarespace Inc/Squarespace 6//v6//EN
BEGIN:VEVENT
UID:5c0d6654562fa7678539a331@squarespace.com
DTSTAMP:20201009T224512Z
DTSTART:20190504T053000Z
DTEND:20190504T083000Z
SUMMARY:TWO PLACES LEFT - Myths\, Malts and Stories - for Whisky Lovers
END:VEVENT
END:VCALENDAR
