BEGIN:VCALENDAR
VERSION:2.0
PRODID:-//Squarespace Inc/Squarespace 6//v6//EN
BEGIN:VEVENT
UID:5d005437a57ed1000159aa24@squarespace.com
DTSTAMP:20201009T224748Z
DTSTART:20190818T020000Z
DTEND:20190818T060000Z
SUMMARY:BOOKED OUT - Italian Long Lunch Feast with Melina and Tania
END:VEVENT
END:VCALENDAR
