BEGIN:VCALENDAR
VERSION:2.0
PRODID:-//Squarespace Inc/Squarespace 6//v6//EN
BEGIN:VEVENT
UID:5f3c66b28ffb5b0ccb673bbb@squarespace.com
DTSTAMP:20201009T224858Z
DTSTART:20200926T233000Z
DTEND:20200927T033000Z
SUMMARY:BOOKED OUT - Dim Sum then Some
END:VEVENT
END:VCALENDAR
