BEGIN:VCALENDAR
VERSION:2.0
PRODID:-//Squarespace Inc/Squarespace 6//v6//EN
BEGIN:VEVENT
UID:5f331afc1d14c20ff5721dbc@squarespace.com
DTSTAMP:20201015T060558Z
DTSTART:20201022T070000Z
DTEND:20201022T110000Z
SUMMARY:ONE PLACE LEFT - French Cuisine - NEW MENU - Celebrate France
END:VEVENT
END:VCALENDAR
