BEGIN:VCALENDAR
VERSION:2.0
PRODID:-//Squarespace Inc/Squarespace 6//v6//EN
BEGIN:VEVENT
UID:5dcb4bd588d63a3392eab33c@squarespace.com
DTSTAMP:20201009T224858Z
DTSTART:20200903T080000Z
DTEND:20200903T120000Z
SUMMARY:BOOKED OUT - French Cuisine - NEW MENU - Celebrate France
END:VEVENT
END:VCALENDAR
