BEGIN:VCALENDAR
VERSION:2.0
PRODID:-//Squarespace Inc/Squarespace 6//v6//EN
BEGIN:VEVENT
UID:5dcb5e886e0c33227d20ac7f@squarespace.com
DTSTAMP:20201009T224858Z
DTSTART:20200804T080000Z
DTEND:20200804T120000Z
SUMMARY:ONE PLACE LEFT - Moorish Moroccan Flavours - NEW MENU
END:VEVENT
END:VCALENDAR
