BEGIN:VCALENDAR
VERSION:2.0
PRODID:-//Squarespace Inc/Squarespace 6//v6//EN
BEGIN:VEVENT
UID:5dcb3cd2b01009285eb8c837@squarespace.com
DTSTAMP:20201009T224858Z
DTSTART:20200827T080000Z
DTEND:20200827T120000Z
SUMMARY:BOOKED OUT  - Middle Eastern - In the style of Ottolenghi\, spices 
 and aromatic dishes
END:VEVENT
END:VCALENDAR
