BEGIN:VCALENDAR
VERSION:2.0
PRODID:-//Squarespace Inc/Squarespace 6//v6//EN
BEGIN:VEVENT
UID:5e5ef1454121d13b149b5817@squarespace.com
DTSTAMP:20201009T224858Z
DTSTART:20200806T080000Z
DTEND:20200806T120000Z
SUMMARY:BOOKED OUT - Secrets to Duck\, Pork Belly and Pinot
END:VEVENT
END:VCALENDAR
