BEGIN:VCALENDAR
VERSION:2.0
PRODID:-//Squarespace Inc/Squarespace 6//v6//EN
BEGIN:VEVENT
UID:5dd3327277bed738f2c50251@squarespace.com
DTSTAMP:20201009T224858Z
DTSTART:20200805T080000Z
DTEND:20200805T120000Z
SUMMARY:ONE PLACE LEFT - Secrets to Duck\, Pork Belly and Pinot - NEW MENU
END:VEVENT
END:VCALENDAR
