BEGIN:VCALENDAR
VERSION:2.0
PRODID:-//Squarespace Inc/Squarespace 6//v6//EN
BEGIN:VEVENT
UID:5f3c691b7ea18f082ae30c9f@squarespace.com
DTSTAMP:20201008T223019Z
DTSTART:20201010T223000Z
DTEND:20201011T023000Z
SUMMARY:BOOKED OUT  - The Spice Route of India
END:VEVENT
END:VCALENDAR
