BEGIN:VCALENDAR
VERSION:2.0
PRODID:-//Squarespace Inc/Squarespace 6//v6//EN
BEGIN:VEVENT
UID:5dcc842d77e369332ca81af4@squarespace.com
DTSTAMP:20201009T224858Z
DTSTART:20200912T000000Z
DTEND:20200912T040000Z
SUMMARY:BOOKED OUT - The Spice Route of India 
END:VEVENT
END:VCALENDAR
