BEGIN:VCALENDAR
VERSION:2.0
PRODID:-//Squarespace Inc/Squarespace 6//v6//EN
BEGIN:VEVENT
UID:5dcc82fe7220ac6a9b6f6020@squarespace.com
DTSTAMP:20201009T224858Z
DTSTART:20200814T080000Z
DTEND:20200814T120000Z
SUMMARY:BOOKED OUT - The Spice Route of India 
END:VEVENT
END:VCALENDAR
