BEGIN:VCALENDAR
VERSION:2.0
PRODID:-//Squarespace Inc/Squarespace 6//v6//EN
BEGIN:VEVENT
UID:5e2f94e611380c46613769a2@squarespace.com
DTSTAMP:20201006T111853Z
DTSTART:20201006T220000Z
DTEND:20201007T003000Z
SUMMARY:BOOKED OUT - Junior Chef (Morning Class) | 8-12 years
END:VEVENT
END:VCALENDAR
