BEGIN:VCALENDAR
VERSION:2.0
PRODID:-//Squarespace Inc/Squarespace 6//v6//EN
BEGIN:VEVENT
UID:5d48af97cec81600011347e4@squarespace.com
DTSTAMP:20201009T224528Z
DTSTART:20190924T080000Z
DTEND:20190924T120000Z
SUMMARY:BOOKED OUT - 30 Minute Meals
END:VEVENT
END:VCALENDAR
