BEGIN:VCALENDAR
VERSION:2.0
PRODID:-//Squarespace Inc/Squarespace 6//v6//EN
BEGIN:VEVENT
UID:5cb67aacf9619af5e8c266dc@squarespace.com
DTSTAMP:20201009T224613Z
DTSTART:20190716T033000Z
DTEND:20190716T060000Z
SUMMARY:BOOKED OUT - Junior Chefs (Afternoon Class) | 13-16 years
END:VEVENT
END:VCALENDAR
