BEGIN:VCALENDAR
VERSION:2.0
PRODID:-//Squarespace Inc/Squarespace 6//v6//EN
BEGIN:VEVENT
UID:5cad40eeb208fc76d0f9a863@squarespace.com
DTSTAMP:20201009T224614Z
DTSTART:20190715T023000Z
DTEND:20190715T050000Z
SUMMARY:BOOKED OUT - Junior Chefs (Afternoon Class) | 8-12 years
END:VEVENT
END:VCALENDAR
