BEGIN:VCALENDAR
VERSION:2.0
PRODID:-//Squarespace Inc/Squarespace 6//v6//EN
BEGIN:VEVENT
UID:5dcb558b7ea48572f9eafb2b@squarespace.com
DTSTAMP:20201009T224858Z
DTSTART:20200930T030000Z
DTEND:20200930T053000Z
SUMMARY:BOOKED OUT - Junior Chefs (Afternoon Class) | 12-16 years
END:VEVENT
END:VCALENDAR
