BEGIN:VCALENDAR
VERSION:2.0
PRODID:-//Squarespace Inc/Squarespace 6//v6//EN
BEGIN:VEVENT
UID:5e2f96c011380c466137d1c0@squarespace.com
DTSTAMP:20201006T111203Z
DTSTART:20201007T020000Z
DTEND:20201007T043000Z
SUMMARY:ONE PLACED LEFT Junior Chef - (Afternoon Class) | 12-16 years
END:VEVENT
END:VCALENDAR
