BEGIN:VCALENDAR
VERSION:2.0
PRODID:-//Squarespace Inc/Squarespace 6//v6//EN
BEGIN:VEVENT
UID:5cb688b171c10b68661ff2f1@squarespace.com
DTSTAMP:20201009T224500Z
DTSTART:20191030T070000Z
DTEND:20191030T110000Z
SUMMARY:BOOKED OUT - Asian Banquet for Entertaining
END:VEVENT
END:VCALENDAR
