BEGIN:VCALENDAR
VERSION:2.0
PRODID:-//Squarespace Inc/Squarespace 6//v6//EN
BEGIN:VEVENT
UID:5dcb487037b5697e37367ed1@squarespace.com
DTSTAMP:20201009T224858Z
DTSTART:20200220T070000Z
DTEND:20200220T110000Z
SUMMARY:BOOKED OUT - BBQ and Charcoal Cooking
END:VEVENT
END:VCALENDAR
