BEGIN:VCALENDAR
VERSION:2.0
PRODID:-//Squarespace Inc/Squarespace 6//v6//EN
BEGIN:VEVENT
UID:5d40d6d189ce3b0001dbe35b@squarespace.com
DTSTAMP:20201009T224528Z
DTSTART:20190925T080000Z
DTEND:20190925T120000Z
SUMMARY:BOOKED OUT - BBQ and Charcoal Cooking
END:VEVENT
END:VCALENDAR
