BEGIN:VCALENDAR
VERSION:2.0
PRODID:-//Squarespace Inc/Squarespace 6//v6//EN
BEGIN:VEVENT
UID:5cb66868b208fc8a4300bb49@squarespace.com
DTSTAMP:20201009T224528Z
DTSTART:20190904T080000Z
DTEND:20190904T120000Z
SUMMARY:BOOKED OUT - BBQ and Charcoal Cooking
END:VEVENT
END:VCALENDAR
